BEGIN:VCALENDAR
VERSION:2.0
METHOD:PUBLISH
BEGIN:VEVENT
DTSTART:20210610T180000
DTEND:20210610T180000
LOCATION:Filia nr 7 Miejskiej Bibliotek Publicznej w Szczecinie plac Matki Teresy z Kalkuty 8  Szczecin
TRANSP: OPAQUE
SEQUENCE:0
UID:
DTSTAMP:20260419T161956Z
SUMMARY:Laos. Opowieść o Katu, Akha oraz Khmou [Kolory kultury]
DESCRIPTION:10 czerwca (czwartek) o godz. 18.00 zapraszamy na spotkanie z podróżnikiem, Piotrem Wnukiem, który opowie o swoich wyprawach do Laosu. Wydarzenie odbędzie się w formule hybrydowej:......
URL:https://app.evenea.pl/event/laos-kolory-kultury/
PRIORITY:1
CLASS:PUBLIC
END:VEVENT
END:VCALENDAR
