BEGIN:VCALENDAR
VERSION:2.0
METHOD:PUBLISH
BEGIN:VEVENT
DTSTART:20240627T180000
DTEND:20240627T180000
LOCATION:Filia nr 7 Miejskiej Biblioteki Publicznej w Szczecinie plac Matki Teresy z Kalkuty 8  Szczecin
TRANSP: OPAQUE
SEQUENCE:0
UID:
DTSTAMP:20260421T211811Z
SUMMARY:Zrób swoją mini książkę! [W Pogoni za książką]
DESCRIPTION:Zapraszamy serdecznie na warsztaty tworzenia lapbooków — książek, książeczek o wielu składanych, rozkładanych i wyciąganych cząstkach. Tematyka lapbooków będzie powiązana z książką......
URL:https://app.evenea.pl/event/lapbookdladzieci/
PRIORITY:1
CLASS:PUBLIC
END:VEVENT
END:VCALENDAR
