BEGIN:VCALENDAR
VERSION:2.0
METHOD:PUBLISH
BEGIN:VEVENT
DTSTART:20221124T173000
DTEND:20221124T173000
LOCATION:Boży Młyn ul. Jabłonkowska 18  Kraków
TRANSP: OPAQUE
SEQUENCE:0
UID:
DTSTAMP:20260422T210116Z
SUMMARY:Szkoła dla rodziców - bezpłatne warsztaty
DESCRIPTION:Zapraszamy na wyjątkowe, bezpłatne warsztaty - Szkoła dla Rodziców! Każdy rodzic chciałby mieć bliską relację ze swoim dzieckiem. Mieć na niego wpływ, żeby nauczyć tego, co uważa za......
URL:https://app.evenea.pl/event/latarnia1/
PRIORITY:1
CLASS:PUBLIC
END:VEVENT
END:VCALENDAR
