BEGIN:VCALENDAR
VERSION:2.0
METHOD:PUBLISH
BEGIN:VEVENT
DTSTART:20221126T090000
DTEND:20221126T090000
LOCATION:Boży Młyn ul. Jabłonkowska 18  Kraków
TRANSP: OPAQUE
SEQUENCE:0
UID:
DTSTAMP:20260422T221718Z
SUMMARY:Weekendowa Szkoła dla rodziców - bezpłatne warsztaty
DESCRIPTION:Zapraszamy na wyjątkowe, bezpłatne warsztaty - Szkoła dla Rodziców! Każdy rodzic chciałby mieć bliską relację ze swoim dzieckiem. Mieć na niego wpływ, żeby nauczyć tego, co uważa za......
URL:https://app.evenea.pl/event/latarnia2/
PRIORITY:1
CLASS:PUBLIC
END:VEVENT
END:VCALENDAR
