BEGIN:VCALENDAR
VERSION:2.0
METHOD:PUBLISH
BEGIN:VEVENT
DTSTART:20260503T140000
DTEND:20260503T153000
LOCATION:Łazienki Królewskie   Warszawa
TRANSP: OPAQUE
SEQUENCE:0
UID:
DTSTAMP:20260421T073745Z
SUMMARY:Spacer z adrenaliną po Łazienkach Królewskich - niedziela 3 maja 2026 r.
DESCRIPTION:Opis wydarzenia znajduje się na stronie: http://www.wesolespacerypowarszawie.pl/wieczorny-spacer-z-adrenalina-po-lazienkach-krolewskich/Aby zapisać się na ten spacer należy wybrać liczbę......
URL:https://app.evenea.pl/event/lazienkispacer1/
PRIORITY:1
CLASS:PUBLIC
END:VEVENT
END:VCALENDAR
