BEGIN:VCALENDAR
VERSION:2.0
METHOD:PUBLISH
BEGIN:VEVENT
DTSTART:20190105T100000
DTEND:20190105T100000
LOCATION:Łódź - Hotel Tobacco kopernika 64  Łódź
TRANSP: OPAQUE
SEQUENCE:0
UID:
DTSTAMP:20260425T180904Z
SUMMARY:LDEK FULL PREP 7.0 - KURS LDEK
DESCRIPTION:\n\n	Szkolenie LDEK FULL PREP 7.0 przygotowuje Państwa do egzaminu w sesji luty 2019.\n\n	\n\n	Jest to kurs teoretyczny w formie seminariów trwający cztery dni. \n\n\n\n	 4 dni, które......
URL:https://app.evenea.pl/event/ldekfullprep7/
PRIORITY:1
CLASS:PUBLIC
END:VEVENT
END:VCALENDAR
