BEGIN:VCALENDAR
VERSION:2.0
METHOD:PUBLISH
BEGIN:VEVENT
DTSTART:20190729T090000
DTEND:20190729T090000
LOCATION:   
TRANSP: OPAQUE
SEQUENCE:0
UID:
DTSTAMP:20260422T190523Z
SUMMARY:LDEK ONLINE 2.0 - Kurs do LDEK
DESCRIPTION:Jeśli poszukujesz kursu do najbliższego Lekarsko-Dentystycznego Egzaminu Końcowego to jesteś dobrej stronie. Kurs LDEK ONLINE to internetowy multimedialny 7-dniowy kurs do egzaminu LDEK w sesji......
URL:https://app.evenea.pl/event/ldekonline2/
PRIORITY:1
CLASS:PUBLIC
END:VEVENT
END:VCALENDAR
