BEGIN:VCALENDAR
VERSION:2.0
METHOD:PUBLISH
BEGIN:VEVENT
DTSTART:20260502T120000
DTEND:20260502T133000
LOCATION:Plac Zamkowy Plac Zamkowy  Warszawa
TRANSP: OPAQUE
SEQUENCE:0
UID:
DTSTAMP:20260421T125928Z
SUMMARY:Legendy Warszawskie. Spacer rodzinny z prezentami - sobota 2 maja 2026 r.
DESCRIPTION:Na spacer należy zapisać wszystkie osoby, w tym i dzieci. Inne terminy tego spaceru są dostępne na......
URL:https://app.evenea.pl/event/legendywarszawskie2/
PRIORITY:1
CLASS:PUBLIC
END:VEVENT
END:VCALENDAR
