BEGIN:VCALENDAR
VERSION:2.0
METHOD:PUBLISH
BEGIN:VEVENT
DTSTART:20190908T110000
DTEND:20190908T170000
LOCATION:Międzynarodowe Szkoły Paderewski w Lublinie "Sala Mentalna" ul. Symfoniczna 1A  Lublin
TRANSP: OPAQUE
SEQUENCE:0
UID:
DTSTAMP:20260423T211828Z
SUMMARY:PRAKTYCZNY KURS Z METODY LEGO-LOGOS
DESCRIPTION:PRAKTYCZNY KURS Z METODY LEGO-LOGOSSerdecznie zapraszamy na praktyczny kurs z opatentowanej metody dydaktycznej ΛΕΓΩ-ΛΟΓΟΣ (pol. lego-logos), który poprowadzi jej twórca, Jarosław......
URL:https://app.evenea.pl/event/lego-logos/
PRIORITY:1
CLASS:PUBLIC
END:VEVENT
END:VCALENDAR
