BEGIN:VCALENDAR
VERSION:2.0
METHOD:PUBLISH
BEGIN:VEVENT
DTSTART:20240925T133000
DTEND:20240925T150000
LOCATION:Centrum Edukacji i Wsparcia os. Górali 24  Kraków
TRANSP: OPAQUE
SEQUENCE:0
UID:
DTSTAMP:20260423T053646Z
SUMMARY:Lekcja pokazowa z języka polskiego | Demonstration lesson in Polish language | Демонстраційний урок польської мови
DESCRIPTION:Grupa wiekowa: dla wszystkichPL | Jeśli chcesz zobaczyć, jak wyglądają u nas lekcje języka polskiego, przekonaj się o tym bezpośrednio na miejscu. ENG | If you want to see what Polish......
URL:https://app.evenea.pl/event/lekcjapolskiego2509/
PRIORITY:1
CLASS:PUBLIC
END:VEVENT
END:VCALENDAR
