BEGIN:VCALENDAR
VERSION:2.0
METHOD:PUBLISH
BEGIN:VEVENT
DTSTART:20200620T170000
DTEND:20200620T180000
LOCATION:Teatr Boto Bohaterów Monte Cassino 54B  Sopot
TRANSP: OPAQUE
SEQUENCE:0
UID:
DTSTAMP:20260421T183743Z
SUMMARY:Letnie kameralne festiwale w czasach pandemii
DESCRIPTION:Z jakimi obostrzeniami w organizacji festiwali trzeba się mierzyć? Czy wszystkie wydarzenia artystyczne warto streamować? Jak dbać o odbiorców online i offline? W czym tkwi siła......
URL:https://app.evenea.pl/event/letniefestiwale/
PRIORITY:1
CLASS:PUBLIC
END:VEVENT
END:VCALENDAR
