BEGIN:VCALENDAR
VERSION:2.0
METHOD:PUBLISH
BEGIN:VEVENT
DTSTART:20221124T160000
DTEND:20221124T160000
LOCATION:Centrum Kultury w Lublinie Peowiaków 12  Lublin
TRANSP: OPAQUE
SEQUENCE:0
UID:
DTSTAMP:20260421T130930Z
SUMMARY:KINO VR / VR CINEMA
DESCRIPTION:24.11.2022, godz. 16:00-18:15Deep Dive, reż./dir. Miłosz Hermanowicz (Polska/Poland) 2020, 17'Magda, młoda kobieta, zgubiła się nad dzikiem brzegiem rzeki. Jej obawy i nadzieje mieszają się......
URL:https://app.evenea.pl/event/lff22vr/
PRIORITY:1
CLASS:PUBLIC
END:VEVENT
END:VCALENDAR
