BEGIN:VCALENDAR
VERSION:2.0
METHOD:PUBLISH
BEGIN:VEVENT
DTSTART:20230926T160000
DTEND:20230926T173000
LOCATION:Online - Centrum Rozwoju Talentów Grunwaldzka 472d  Gdańsk
TRANSP: OPAQUE
SEQUENCE:0
UID:
DTSTAMP:20260421T185815Z
SUMMARY:Webinarium: Daj się złapać - LinkedIn dla początkujących
DESCRIPTION:Wracamy z naszym niezastąpionym cyklem webinariów pod hasłem Daj się zrekrutować. To propozycja dla tych, którzy myślą o zawodowej zmianie. Brzmi znajomo? To dobrze, że tu jesteś! Weź......
URL:https://app.evenea.pl/event/linkedin-dla-poczatkujacych-wrzesien/
PRIORITY:1
CLASS:PUBLIC
END:VEVENT
END:VCALENDAR
