BEGIN:VCALENDAR
VERSION:2.0
METHOD:PUBLISH
BEGIN:VEVENT
DTSTART:20250407T173000
DTEND:20250407T173000
LOCATION:Stacja Artystyczna RYNEK Rynek 4-5  Gliwice
TRANSP: OPAQUE
SEQUENCE:0
UID:
DTSTAMP:20260424T210549Z
SUMMARY:Linkedin Local Gliwice
DESCRIPTION:LinkedIn Local Gliwice - spotkanie dla profesjonalistów i pasjonatów biznesu!LinkedIn Local Gliwice to wyjątkowa okazja do nawiązania wartościowych kontaktów biznesowych i rozwijania swojej......
URL:https://app.evenea.pl/event/llgliwice/
PRIORITY:1
CLASS:PUBLIC
END:VEVENT
END:VCALENDAR
