BEGIN:VCALENDAR
VERSION:2.0
METHOD:PUBLISH
BEGIN:VEVENT
DTSTART:20240131T150000
DTEND:20240131T173000
LOCATION:Centrum Rozwoju Talentów Grunwaldzka 472d  Gdańsk
TRANSP: OPAQUE
SEQUENCE:0
UID:
DTSTAMP:20260419T160151Z
SUMMARY:Warsztaty: LockLuck - inspirująca podróż w świat własnych wartości
DESCRIPTION:Zapraszamy Cię na niezwykłe warsztaty z użyciem innowacyjnej gry coachingowej - LockLuck. Udział w spotkaniu to inspirująca podróż w świat własnych wartości i ukrytych aspektów swojej......
URL:https://app.evenea.pl/event/lock-luck-wartosci/
PRIORITY:1
CLASS:PUBLIC
END:VEVENT
END:VCALENDAR
