BEGIN:VCALENDAR
VERSION:2.0
METHOD:PUBLISH
BEGIN:VEVENT
DTSTART:20251115T180000
DTEND:20251115T180000
LOCATION:Hotel Loft 1898**** Pułaskiego 24k  Suwałki
TRANSP: OPAQUE
SEQUENCE:0
UID:
DTSTAMP:20260422T235753Z
SUMMARY:Wieczór autorski z Marcinem Bobowiczem w Hotelu Loft 1898****
DESCRIPTION:Marcin Bobowicz to pasjonat historii, który poświęcił się zgłębianiu losów ludzi, którzy przeżyli dramatyczne lata II wojny światowej na Suwalszczyźnie. Z tej pasji powstały dwie......
URL:https://app.evenea.pl/event/loft-spotkanie/
PRIORITY:1
CLASS:PUBLIC
END:VEVENT
END:VCALENDAR
