BEGIN:VCALENDAR
VERSION:2.0
METHOD:PUBLISH
BEGIN:VEVENT
DTSTART:20260423T175500
DTEND:20260423T175500
LOCATION:Dom Technika NOT w Gdańsku ul.Rajska 6  Gdańsk
TRANSP: OPAQUE
SEQUENCE:0
UID:
DTSTAMP:20260419T164703Z
SUMMARY:Członkostwo w Lokalnym Klubie 555 Gdańsk - Rytm, który zamienia rozwój w konkret.
DESCRIPTION:To nie jest przestrzeń po inspirację.To jest miejsce dla osób, które chcą spokoju w głowie, standardu w działaniu i realnych decyzji.Jeśli czujesz, że wiesz dużo, rozumiesz dużo - a......
URL:https://app.evenea.pl/event/lokalnyklub555gdansk/
PRIORITY:1
CLASS:PUBLIC
END:VEVENT
END:VCALENDAR
