BEGIN:VCALENDAR
VERSION:2.0
METHOD:PUBLISH
BEGIN:VEVENT
DTSTART:20260331T180000
DTEND:20260331T180000
LOCATION:Akademia WSB w Jaworznie Sportowa 1  Jaworzno
TRANSP: OPAQUE
SEQUENCE:0
UID:
DTSTAMP:20260420T005737Z
SUMMARY:Local IN Jaworzno
DESCRIPTION:Weź udział w konferencji Local IN Jaworzno🚀 Zapraszamy na inspirujące wydarzenie dla przedsiębiorców i osób zainteresowanych rozwojem!Już 31 marca 2026 r. spotykamy się w Akademii WSB w......
URL:https://app.evenea.pl/event/lokinjaw/
PRIORITY:1
CLASS:PUBLIC
END:VEVENT
END:VCALENDAR
