BEGIN:VCALENDAR
VERSION:2.0
METHOD:PUBLISH
BEGIN:VEVENT
DTSTART:20210522T120000
DTEND:20210522T160000
LOCATION:Stadion Miejski w Białymstoku ul. Słoneczna 1  Białystok
TRANSP: OPAQUE
SEQUENCE:0
UID:
DTSTAMP:20260426T053318Z
SUMMARY:6. kolejka PFL1 | Lowlanders Białystok - Archers Bydgoszcz
DESCRIPTION:HARMONOGRAM12.00 - otwarcie bram13.00 - mecz Lowlanders Białystok - Archers Bydgoszcz16.00 - planowane zakończenie......
URL:https://app.evenea.pl/event/lowlanders-archers/
PRIORITY:1
CLASS:PUBLIC
END:VEVENT
END:VCALENDAR
