BEGIN:VCALENDAR
VERSION:2.0
METHOD:PUBLISH
BEGIN:VEVENT
DTSTART:20220122T140000
DTEND:20220122T150000
LOCATION:Centrum Kultury w Lublinie Peowiaków 12  Lublin
TRANSP: OPAQUE
SEQUENCE:0
UID:
DTSTAMP:20260420T013740Z
SUMMARY:Lubelski Meetup Zero Waste #1 edycja 2.
DESCRIPTION:Już 22 stycznia 2022 r. o godzinie 14:00 w sali kinowej lubelskiego Centrum Kultury odbędzie się 2. edycja Lubelskiego Meetupu Zero Waste. A na nim inspirujący goście — lubelscy działacze,......
URL:https://app.evenea.pl/event/lubmeetupzerowaste2/
PRIORITY:1
CLASS:PUBLIC
END:VEVENT
END:VCALENDAR
