BEGIN:VCALENDAR
VERSION:2.0
METHOD:PUBLISH
BEGIN:VEVENT
DTSTART:20191019T170000
DTEND:20191019T193000
LOCATION:Sieć Badawcza Łukasiewicz - PORT Polski Ośrodek Rozwoju Technologii ul. Stabłowicka 147, budynek 147  Wrocław
TRANSP: OPAQUE
SEQUENCE:0
UID:
DTSTAMP:20260420T034645Z
SUMMARY:NOC LABORATORIÓW 2019 // ŁUKASIEWICZ - PORT // ESCAPE LAB
DESCRIPTION: Sieć Badawcza Łukasiewicz - PORT Polski Ośrodek Rozwoju TechnologiiRozwijamy nowe technologie, prowadząc badania cenne dla przemysłu i we współpracy z nim. W ŁUKASIEWICZ - PORT świetni......
URL:https://app.evenea.pl/event/lukasiewicz-port-escapelab/
PRIORITY:1
CLASS:PUBLIC
END:VEVENT
END:VCALENDAR
