BEGIN:VCALENDAR
VERSION:2.0
METHOD:PUBLISH
BEGIN:VEVENT
DTSTART:20230629T190000
DTEND:20230629T190000
LOCATION:Dobre Miejsce - Katolickie Centrum Kultury Dewajtis 3 (wej.B)  Warszawa
TRANSP: OPAQUE
SEQUENCE:0
UID:
DTSTAMP:20260424T224708Z
SUMMARY:Film "LUNANA. Szkoła na końcu świata"
DESCRIPTION:"Lunana. Szkoła na końcu świata" to filmowa podróż do bhutańskiej wioski położonej w Himalajach. Nominowany do OSCARA film i zdobywca kilkunastu nagród publiczności na różnych......
URL:https://app.evenea.pl/event/lulana/
PRIORITY:1
CLASS:PUBLIC
END:VEVENT
END:VCALENDAR
