BEGIN:VCALENDAR
VERSION:2.0
METHOD:PUBLISH
BEGIN:VEVENT
DTSTART:20220609T180000
DTEND:20220609T220000
LOCATION:Mińska 65 ul. Mińska 65  Warszawa
TRANSP: OPAQUE
SEQUENCE:0
UID:
DTSTAMP:20260419T154620Z
SUMMARY:Mińska 65 MeetUP #1 powered by PolskiGamedev.pl
DESCRIPTION:Mińska 65 MeetUP #1 to pierwsze wydarzenie w ramach nowego cyklu comiesięcznych spotkań mających wesprzeć integrację środowiska twórców gier wideo oraz przemysłów kreatywnych. Chcemy,......
URL:https://app.evenea.pl/event/m65meetup/
PRIORITY:1
CLASS:PUBLIC
END:VEVENT
END:VCALENDAR
