BEGIN:VCALENDAR
VERSION:2.0
METHOD:PUBLISH
BEGIN:VEVENT
DTSTART:20200918T080000
DTEND:20200918T170000
LOCATION:   
TRANSP: OPAQUE
SEQUENCE:0
UID:
DTSTAMP:20260422T192704Z
SUMMARY:Machina B2B - jak zamienić sprzedaż i marketing w sprawną machinę? (Szymon Negacz)
DESCRIPTION:Jak zamienić sprzedaż i marketing w sprawną machinę? Podczas 4 modułów:Dowiesz się jak pozyskiwać klientów tradycyjnymi metodami odpowiednio formułując komunikaty,Poznasz kilkanaście......
URL:https://app.evenea.pl/event/machina/
PRIORITY:1
CLASS:PUBLIC
END:VEVENT
END:VCALENDAR
