BEGIN:VCALENDAR
VERSION:2.0
METHOD:PUBLISH
BEGIN:VEVENT
DTSTART:20260425T140000
DTEND:20260425T140000
LOCATION:Książnica Pomorska im. Stanisława Staszica w Szczecinie ul. Podgórna 15/16 70-205 Szczecin  Szczecin
TRANSP: OPAQUE
SEQUENCE:0
UID:
DTSTAMP:20260420T223057Z
SUMMARY:Szymon Majewski wśród książek
DESCRIPTION:Szymon Majewski - komik, satyryk, showman i niepoprawny generator pomysłów - zaprasza na wyjątkowe spotkanie! Znany z błyskotliwego humoru, radiowych rozmów "Nie mam pytań", felietonów w......
URL:https://app.evenea.pl/event/majewskikp/
PRIORITY:1
CLASS:PUBLIC
END:VEVENT
END:VCALENDAR
