BEGIN:VCALENDAR
VERSION:2.0
METHOD:PUBLISH
BEGIN:VEVENT
DTSTART:20240420T100000
DTEND:20240420T120000
LOCATION:Miejskie Hale Targowe w Gdyni, podziemie pod Halą Płaską-box. 320 Wójta Radtkego 36  Gdynia
TRANSP: OPAQUE
SEQUENCE:0
UID:
DTSTAMP:20260423T201830Z
SUMMARY:Dzień Kreatywny Hal Targowych w Gdyni//Makramowe breloki//20 kwietnia 2024
DESCRIPTION:Zapraszamy na spotkanie z Alicją w ramach kwietniowego Dnia Kreatywnego Hal Targowych w Gdyni!Czas: 20 kwietnia 2024; 10.00- 12.00Start: podziemie pod Halą Płaską - alejka Halo Kultura, box.......
URL:https://app.evenea.pl/event/makaramowebreloki/
PRIORITY:1
CLASS:PUBLIC
END:VEVENT
END:VCALENDAR
