BEGIN:VCALENDAR
VERSION:2.0
METHOD:PUBLISH
BEGIN:VEVENT
DTSTART:20250923T191500
DTEND:20250923T201500
LOCATION:ZODIAK Warszawski Pawilon Architektury Pasaż Stefana Wiecheckiego "Wiecha" 4  Warszawa
TRANSP: OPAQUE
SEQUENCE:0
UID:
DTSTAMP:20260422T133208Z
SUMMARY:Make her move | warsztaty
DESCRIPTION:Zapraszamy na warsztaty, na których zastanowimy się, jak projektować miasta równe płciowo.MAKE HER MOVE to projekt badawczy realizowany dzięki wsparciu programu Erasmus+, poświęcony temu,......
URL:https://app.evenea.pl/event/makehermove/
PRIORITY:1
CLASS:PUBLIC
END:VEVENT
END:VCALENDAR
