BEGIN:VCALENDAR
VERSION:2.0
METHOD:PUBLISH
BEGIN:VEVENT
DTSTART:20230901T173000
DTEND:20230901T203000
LOCATION:FabLab powered by Orange Targowa 56  Warszawa
TRANSP: OPAQUE
SEQUENCE:0
UID:
DTSTAMP:20260422T142002Z
SUMMARY:Maker Woman - Zaprojektuj swoją biżuterię-podstawy programu wektorowego i plotera laserowego
DESCRIPTION:Czy myślałaś kiedyś o stworzeniu swojej własnej, unikalnej biżuterii? Teraz masz szansę zrealizować swoje artystyczne wizje w połączeniu z nowoczesną technologią. Dołącz do......
URL:https://app.evenea.pl/event/makerlaserek/
PRIORITY:1
CLASS:PUBLIC
END:VEVENT
END:VCALENDAR
