BEGIN:VCALENDAR
VERSION:2.0
METHOD:PUBLISH
BEGIN:VEVENT
DTSTART:20240410T130000
DTEND:20240410T150000
LOCATION:Centrum Edukacji i Wsparcia os. Górali 24  Kraków
TRANSP: OPAQUE
SEQUENCE:0
UID:
DTSTAMP:20260423T050112Z
SUMMARY:Codzienny makijaż w stylu Nude | Everyday makeup in nude style | Повсякденний макіяж в стилі Nude
DESCRIPTION:DLA KOGO: wszyscyPL| Na spotkaniu Maryna pokaże jak zrobić prosty, naturalny makijaż na co dzień w stylu nude. Zrobimy też przegląd Twojej kosmetyczki więc nie zapomnij jej przynieść.Jest......
URL:https://app.evenea.pl/event/makijaz1004/
PRIORITY:1
CLASS:PUBLIC
END:VEVENT
END:VCALENDAR
