BEGIN:VCALENDAR
VERSION:2.0
METHOD:PUBLISH
BEGIN:VEVENT
DTSTART:20240313T130000
DTEND:20240313T150000
LOCATION:Centrum Edukacji i Wsparcia os. Górali 24  Kraków
TRANSP: OPAQUE
SEQUENCE:0
UID:
DTSTAMP:20260423T050346Z
SUMMARY:Makijaż na co dzień | Everyday makeup | Повсякденний макіяж
DESCRIPTION:DLA KOGO: wszyscyPL| Na spotkaniu Maryna pokaże jak zrobić prosty, naturalny makijaż na co dzień. Zrobimy też przegląd Twojej kosmetyczki więc nie zapomnij jej przynieść.ENG| During the......
URL:https://app.evenea.pl/event/makijaznacodzien/
PRIORITY:1
CLASS:PUBLIC
END:VEVENT
END:VCALENDAR
