BEGIN:VCALENDAR
VERSION:2.0
METHOD:PUBLISH
BEGIN:VEVENT
DTSTART:20251204T180000
DTEND:20251204T200000
LOCATION:Miejsce Aktywności Lokalnej Szerokie Możliwości ul. Nałęczowska 175  Lublin
TRANSP: OPAQUE
SEQUENCE:0
UID:
DTSTAMP:20260420T011846Z
SUMMARY:MALarnia- międzypokoleniowe warsztaty plastyczne w MAL
DESCRIPTION:Od dawna chodzi Ci po głowie, by namalować swój pierwszy obraz? To prostsze, niż myślisz! Zapraszamy na międzypokoleniowe warsztaty plastyczne. Spróbujesz swoich sił w różnych technikach:......
URL:https://app.evenea.pl/event/malarnia-412/
PRIORITY:1
CLASS:PUBLIC
END:VEVENT
END:VCALENDAR
