BEGIN:VCALENDAR
VERSION:2.0
METHOD:PUBLISH
BEGIN:VEVENT
DTSTART:20260228T100000
DTEND:20260228T173000
LOCATION:Toruń Space Labs Łokietka 11/17  Toruń
TRANSP: OPAQUE
SEQUENCE:0
UID:
DTSTAMP:20260423T182535Z
SUMMARY:Uwierz w SIEBIE!
DESCRIPTION:Uwierz w Siebie!\n\n	\n\nKażdy z nas ma w sobie potencjał. Problem w tym, że często przestajemy go słyszeć.Ta konferencja nie jest o motywowaniu na siłę.Jest o ludziach. O prawdziwych......
URL:https://app.evenea.pl/event/malawielkakonferencja/
PRIORITY:1
CLASS:PUBLIC
END:VEVENT
END:VCALENDAR
