BEGIN:VCALENDAR
VERSION:2.0
METHOD:PUBLISH
BEGIN:VEVENT
DTSTART:20240422T110000
DTEND:20240422T120000
LOCATION:Miejsce Otwarte. Centrum Integracji Międzykulturowej. Kraków os. Górali 24  Kraków
TRANSP: OPAQUE
SEQUENCE:0
UID:
DTSTAMP:20260423T050112Z
SUMMARY:Mama i maluch (1-3 lat) | Mother and toddler (1-3 years) | Мама і малюк (1-3 роки)
DESCRIPTION:Grupa wiekowa: 1-3 lat Język prowadzenia: ukraińskiPL: Zapraszamy mamy z dziećmi w wieku 1-3 lat na wspólne zajęcia. Razem będziemy odkrywać świat poprzez dotykowe i sensoryczne zabawy,......
URL:https://app.evenea.pl/event/mamaimaluch2204/
PRIORITY:1
CLASS:PUBLIC
END:VEVENT
END:VCALENDAR
