BEGIN:VCALENDAR
VERSION:2.0
METHOD:PUBLISH
BEGIN:VEVENT
DTSTART:20231119T100000
DTEND:20231119T160000
LOCATION:Online   
TRANSP: OPAQUE
SEQUENCE:0
UID:
DTSTAMP:20260422T223657Z
SUMMARY:VI Ogólnopolska Konferencja Online MAM GŁOS
DESCRIPTION:VI Ogólnopolska Konferencja Online MAM GŁOS Temat przewodni - muzyka wsparciem w depresjiVI Ogólnopolska Konferencja MAM GŁOS to wydarzenie online, które odbędzie się 19 listopada 2023 roku.......
URL:https://app.evenea.pl/event/mamglos/
PRIORITY:1
CLASS:PUBLIC
END:VEVENT
END:VCALENDAR
