BEGIN:VCALENDAR
VERSION:2.0
METHOD:PUBLISH
BEGIN:VEVENT
DTSTART:20250317T170000
DTEND:20250317T200000
LOCATION:PsychoDziupla Sikorskiego 4  Zielona Góra
TRANSP: OPAQUE
SEQUENCE:0
UID:
DTSTAMP:20260425T004515Z
SUMMARY:Mapa marzeń
DESCRIPTION:Zapraszamy na spotkanie Dyskusyjnego Klubu Coachingu organizowane przez Oddział Lubuski Izby Coachingu\n\n	Zapraszamy Was na warsztaty, w czasie których skonstruujemy swoje Mapy......
URL:https://app.evenea.pl/event/mapa-marzen-2025/
PRIORITY:1
CLASS:PUBLIC
END:VEVENT
END:VCALENDAR
