BEGIN:VCALENDAR
VERSION:2.0
METHOD:PUBLISH
BEGIN:VEVENT
DTSTART:20211115T180000
DTEND:20211115T180000
LOCATION:ProMedia al. Wojska Polskiego 2  Szczecin
TRANSP: OPAQUE
SEQUENCE:0
UID:
DTSTAMP:20260422T235615Z
SUMMARY:Spotkanie z Markiem Boszko-Rudnickim
DESCRIPTION:15 listopada (poniedziałek) o godz. 18:00 w ProMediach (al. Wojska Polskiego 2) o swoich starszych i nowszych publikacjach opowie Marek Boszko-Rudnicki - autor z wieloletnim dziennikarskim......
URL:https://app.evenea.pl/event/marek-rudnicki/
PRIORITY:1
CLASS:PUBLIC
END:VEVENT
END:VCALENDAR
