BEGIN:VCALENDAR
VERSION:2.0
METHOD:PUBLISH
BEGIN:VEVENT
DTSTART:20210818T180000
DTEND:20210818T180000
LOCATION:Filia nr 7 Miejskiej Biblioteki Publicznej w Szczecinie pl. Matki Teresy z Kalkuty 8  Szczecin
TRANSP: OPAQUE
SEQUENCE:0
UID:
DTSTAMP:20260423T025325Z
SUMMARY:Marek Stelar przesłuchuje Annę Rozenberg
DESCRIPTION:18 sierpnia (środa) o godz. 18.00 zapraszamy na spotkanie z Anną Rozenberg, autorką kryminału "Maski pośmiertne". Prowadzenie: Marek Stelar. Wydarzenie odbędzie się w formule hybrydowej:......
URL:https://app.evenea.pl/event/maskiposmiertne/
PRIORITY:1
CLASS:PUBLIC
END:VEVENT
END:VCALENDAR
