BEGIN:VCALENDAR
VERSION:2.0
METHOD:PUBLISH
BEGIN:VEVENT
DTSTART:20210713T113000
DTEND:20210713T130000
LOCATION:online   
TRANSP: OPAQUE
SEQUENCE:0
UID:
DTSTAMP:20260425T180022Z
SUMMARY:Seminarium | MATLAB: an expressive engineering language
DESCRIPTION:Seminarium pt. "MATLAB: an expressive engineering language" Data spotkania online: 13 lipca godz. 11:30 Czas trwania: 1h 30 minZapraszamy do udziału w prezentacji online pt. "MATLAB: an expressive......
URL:https://app.evenea.pl/event/matlab-wil/
PRIORITY:1
CLASS:PUBLIC
END:VEVENT
END:VCALENDAR
