BEGIN:VCALENDAR
VERSION:2.0
METHOD:PUBLISH
BEGIN:VEVENT
DTSTART:20241127T180000
DTEND:20241127T180000
LOCATION:🎭 Teatr Capitol ul. Marszałkowska 115  Warszawa
TRANSP: OPAQUE
SEQUENCE:0
UID:
DTSTAMP:20260420T024111Z
SUMMARY:Gala 3. edycji Mother and Child Startup Challenge
DESCRIPTION:Zapraszamy na Galę Finałową 3. edycji Mother and Child Startup Challenge!Dołącz do nas podczas uroczystej gali, wieńczącej trzecią edycję Mother and Child Startup Challenge! Celem naszego......
URL:https://app.evenea.pl/event/mcsc2024/
PRIORITY:1
CLASS:PUBLIC
END:VEVENT
END:VCALENDAR
