BEGIN:VCALENDAR
VERSION:2.0
METHOD:PUBLISH
BEGIN:VEVENT
DTSTART:20251120T150000
DTEND:20251120T150000
LOCATION:Centrum Nowych Technologi UW Ul. Banacha 2c  Warszawa
TRANSP: OPAQUE
SEQUENCE:0
UID:
DTSTAMP:20260420T010203Z
SUMMARY:MEETUP 404: Future of Marketing
DESCRIPTION:MEETUP 404: Future of Marketing - wracamy z kolejną edycją! 🔥20 listopada w Centrum Nowych Technologii UW i online porozmawiamy o przyszłości marketingu. Będzie o AI, kreatywności,......
URL:https://app.evenea.pl/event/meetup404-future-of-marketing/
PRIORITY:1
CLASS:PUBLIC
END:VEVENT
END:VCALENDAR
