BEGIN:VCALENDAR
VERSION:2.0
METHOD:PUBLISH
BEGIN:VEVENT
DTSTART:20260514T100000
DTEND:20260514T100000
LOCATION:Centrum Nowych Technologii UW Ul. Banacha 2c  Warszawa
TRANSP: OPAQUE
SEQUENCE:0
UID:
DTSTAMP:20260422T183101Z
SUMMARY:MEETUP 404: Marketing in Health & Beauty
DESCRIPTION:MEETUP 404: Marketing in Health &amp; Beauty - wracamy z kolejną edycją! 🔥14 maja w Centrum Nowych Technologii UW i online porozmawiamy o marketingu w branży Health &amp; Beauty. Nadchodząca......
URL:https://app.evenea.pl/event/meetup404-health-beauty/
PRIORITY:1
CLASS:PUBLIC
END:VEVENT
END:VCALENDAR
