BEGIN:VCALENDAR
VERSION:2.0
METHOD:PUBLISH
BEGIN:VEVENT
DTSTART:20251112T100000
DTEND:20251112T140000
LOCATION:Novotel al. Walentego Roździeńskiego 16  Katowice
TRANSP: OPAQUE
SEQUENCE:0
UID:
DTSTAMP:20260420T041525Z
SUMMARY:Mentoring Agenta - Kim trzeba się stać, żeby być agentem nieruchomości?
DESCRIPTION:KUP BILET I ZACZNIJ SWOJĄ TRANSFORMACJĘ JUŻ DZIŚ!Nie czekaj do 12 listopada, by zmienić zasady gry. Ta konferencja to coś więcej niż jednodniowe wydarzenie. To początek Twojej przemiany w......
URL:https://app.evenea.pl/event/mentoringagenta/
PRIORITY:1
CLASS:PUBLIC
END:VEVENT
END:VCALENDAR
