BEGIN:VCALENDAR
VERSION:2.0
METHOD:PUBLISH
BEGIN:VEVENT
DTSTART:20150216T093000
DTEND:20150216T160000
LOCATION:WARSZAWA. OLSZTYN. KRAKÓW. ŁÓDŹ. KATOWICE   Warszawa
TRANSP: OPAQUE
SEQUENCE:0
UID:
DTSTAMP:20260425T180915Z
SUMMARY:MERCHANDISING. Nowoczesny merchandising w sklepach mało i średnio powierzchniowych. OneDayTraining©
DESCRIPTION:MERCHANDISINGNowoczesny merchandising w sklepach mało i średnio powierzchniowych Warsztaty szkoleniowe w formule OneDayTraining© \n\n	70% decyzji nabywczych podejmowanych jest przed półką......
URL:https://app.evenea.pl/event/merchandising/
PRIORITY:1
CLASS:PUBLIC
END:VEVENT
END:VCALENDAR
