BEGIN:VCALENDAR
VERSION:2.0
METHOD:PUBLISH
BEGIN:VEVENT
DTSTART:20200129T083000
DTEND:20200129T170000
LOCATION:PPNT Gdynia, budynek III, coworking Al.Zwycięstwa, 96/98  Gdynia
TRANSP: OPAQUE
SEQUENCE:0
UID:
DTSTAMP:20260422T221739Z
SUMMARY:Metawarsztat, czyli jak zaprojektować warsztat projektowy
DESCRIPTION:Jednym z najlepszych sposobów wypracowywania rozwiązań UX są warsztaty z klientem lub zespołem. Jak zaprojektować wartościowe warsztaty, które jednocześnie będą ciekawe dla......
URL:https://app.evenea.pl/event/metawarsztat/
PRIORITY:1
CLASS:PUBLIC
END:VEVENT
END:VCALENDAR
