BEGIN:VCALENDAR
VERSION:2.0
METHOD:PUBLISH
BEGIN:VEVENT
DTSTART:20210420T110000
DTEND:20210420T114500
LOCATION:inQUBE Uniwersytecki Inkubator Przedsiębiorczości Wielka 67  Wrocław
TRANSP: OPAQUE
SEQUENCE:0
UID:
DTSTAMP:20260425T175809Z
SUMMARY:Metoda Lean Startup - webinar
DESCRIPTION:"Ponad 90% startupów ponosi porażkę, eksperci z Doliny Krzemowej stworzyli metodę tworzenia i rozwoju startupów, która pozwala zwiększyć prawdopodobieństwo sukcesu startupów.Metoda Lean......
URL:https://app.evenea.pl/event/metodalean/
PRIORITY:1
CLASS:PUBLIC
END:VEVENT
END:VCALENDAR
