BEGIN:VCALENDAR
VERSION:2.0
METHOD:PUBLISH
BEGIN:VEVENT
DTSTART:20190917T173500
DTEND:20190919T173500
LOCATION:Autobusy ZTM linia AP1   
TRANSP: OPAQUE
SEQUENCE:0
UID:
DTSTAMP:20260422T063010Z
SUMMARY:Metropolitalne koncerty autobusowe
DESCRIPTION:Daj się koncertowo przewieźć!Metropolitalne koncerty autobusowe są wydarzeniami organizowanymi w ramach Europejskiego Tygodnia Zrównoważonego Transportu, którego celem działań jest......
URL:https://app.evenea.pl/event/metrokoncerty/
PRIORITY:1
CLASS:PUBLIC
END:VEVENT
END:VCALENDAR
