BEGIN:VCALENDAR
VERSION:2.0
METHOD:PUBLISH
BEGIN:VEVENT
DTSTART:20190927T090000
DTEND:20190928T160000
LOCATION:Miejskie Centrum Kultury w Skarżysku-Kam. Słowackiego 25  Skarzysko-Kamienna
TRANSP: OPAQUE
SEQUENCE:0
UID:
DTSTAMP:20260419T155419Z
SUMMARY:IV Międzynarodowe Forum Inwestycyjne w Skarżysku-Kamiennej
DESCRIPTION:\n\n	\n\n\n\n	\n\n\n\n	Prezydent Miasta Skarżyska - Kamiennej oraz Centrum Obsługi Inwestora w Skarżysku - Kamiennej zapraszają na IV Międzynarodowe Forum Inwestycyjne, które odbędzie się w......
URL:https://app.evenea.pl/event/mfi/
PRIORITY:1
CLASS:PUBLIC
END:VEVENT
END:VCALENDAR
