BEGIN:VCALENDAR
VERSION:2.0
METHOD:PUBLISH
BEGIN:VEVENT
DTSTART:20250913T123000
DTEND:20250913T143000
LOCATION:ZODIAK Warszawski Pawilon Architektury Pasaż Stefana Wiecheckiego "Wiecha" 4  Warszawa
TRANSP: OPAQUE
SEQUENCE:0
UID:
DTSTAMP:20260422T133341Z
SUMMARY:Miara małego człowieka
DESCRIPTION:Warsztaty "Miara małego człowieka" przeznaczone są dla rodzin z dziećmi w wieku 6+.Podczas warsztatów poznamy postać Niny Jankowskiej - architektki działającej w dwudziestoleciu......
URL:https://app.evenea.pl/event/miaramalegoczlowieka/
PRIORITY:1
CLASS:PUBLIC
END:VEVENT
END:VCALENDAR
