BEGIN:VCALENDAR
VERSION:2.0
METHOD:PUBLISH
BEGIN:VEVENT
DTSTART:20250625T180000
DTEND:20250625T180000
LOCATION:Bielańskie Centrum Edukacji Kulturalnej Szegedyńska 9a  Warszawa
TRANSP: OPAQUE
SEQUENCE:0
UID:
DTSTAMP:20260419T223440Z
SUMMARY:"Między nami mogło być lepiej" Spektakl w wykonaniu Koła Teatralnego Zespołu Szkół nr 49 w Warszawie
DESCRIPTION:🎭 "Między nami mogło być lepiej" - spektakl, który zapada w pamięć!Już 25 czerwca o godz. 18:00 zapraszamy do Bielańskiego Centrum Edukacji Kulturalnej na wyjątkowy pokaz przygotowany......
URL:https://app.evenea.pl/event/miedzy-nami-moglo-byc-lepiej-bcek/
PRIORITY:1
CLASS:PUBLIC
END:VEVENT
END:VCALENDAR
