BEGIN:VCALENDAR
VERSION:2.0
METHOD:PUBLISH
BEGIN:VEVENT
DTSTART:20210429T100000
DTEND:20210429T100000
LOCATION:Online   
TRANSP: OPAQUE
SEQUENCE:0
UID:
DTSTAMP:20260426T011044Z
SUMMARY:Spotkanie informacyjne online - Jak pozyskać dofinansowanie do 200 tys. zł na zakup usług B+R?
DESCRIPTION:Regionalna Izba Gospodarcza Pomorza wraz z Agencją Rozwoju Pomorza serdecznie zapraszają pomorskich przedsiębiorców na spotkanie informacyjno - promocyjne mające na celu przedstawienie......
URL:https://app.evenea.pl/event/mikrogranty/
PRIORITY:1
CLASS:PUBLIC
END:VEVENT
END:VCALENDAR
